BEGIN:VCALENDAR
VERSION:2.0
PRODID:-//Kent Family Resource Centre - ECPv6.15.17.1//NONSGML v1.0//EN
CALSCALE:GREGORIAN
METHOD:PUBLISH
X-WR-CALNAME:Kent Family Resource Centre
X-ORIGINAL-URL:https://kentcrfk.ca
X-WR-CALDESC:Events for Kent Family Resource Centre
REFRESH-INTERVAL;VALUE=DURATION:PT1H
X-Robots-Tag:noindex
X-PUBLISHED-TTL:PT1H
BEGIN:VTIMEZONE
TZID:UTC
BEGIN:STANDARD
TZOFFSETFROM:+0000
TZOFFSETTO:+0000
TZNAME:UTC
DTSTART:20220101T000000
END:STANDARD
END:VTIMEZONE
BEGIN:VEVENT
DTSTART;TZID=UTC:20230729T080000
DTEND;TZID=UTC:20230730T170000
DTSTAMP:20260426T005303
CREATED:20150210T152159Z
LAST-MODIFIED:20230727T133742Z
UID:10000002-1690617600-1690736400@kentcrfk.ca
SUMMARY:Swimming Champion in the making
DESCRIPTION:Maecenas convallis quam eget urna imperdiet\, eget gravida erat rutrum. Pellentesque rhoncus odio et lorem pharetra dictum. Nam blandit metus diam\, ut maximus arcu commodo in. Integer auctor sapien enim\, viverra vulputate orci posuere eu. Nulla pretium elit orci\, eu facilisis ligula hendrerit ut. Suspendisse malesuada eros ut euismod euismod. Fusce vestibulum ornare augue\, eu mollis orci volutpat non. Pellentesque habitant morbi tristique senectus et netus et malesuada fames ac turpis egestas. Nulla leo lorem\, bibendum et sapien vel\, venenatis ultrices libero. \nSuspendisse arcu odio\, elementum et nisl nec\, maximus consectetur purus. Maecenas lacus magna\, malesuada et gravida sit amet\, rutrum non nisl. Sed non suscipit nunc\, ac varius sapien. Vestibulum euismod vehicula mauris. Ut et faucibus dui. Cras ornare nulla eget massa semper\, a viverra lectus aliquam. Mauris sollicitudin turpis eget est eleifend\, et pretium nunc feugiat. Aenean tristique velit magna. Curabitur a turpis orci.
URL:https://kentcrfk.ca/event/organization-with-full-of-experts/
LOCATION:Bouctouche\, New Brunswick\, Canada
CATEGORIES:Fashion
END:VEVENT
END:VCALENDAR